BEGIN:VCALENDAR
VERSION:2.0
PRODID:-//Growing Space - ECPv6.15.20//NONSGML v1.0//EN
CALSCALE:GREGORIAN
METHOD:PUBLISH
X-ORIGINAL-URL:https://growingspace.london
X-WR-CALDESC:Events for Growing Space
REFRESH-INTERVAL;VALUE=DURATION:PT1H
X-Robots-Tag:noindex
X-PUBLISHED-TTL:PT1H
BEGIN:VTIMEZONE
TZID:Europe/London
BEGIN:DAYLIGHT
TZOFFSETFROM:+0000
TZOFFSETTO:+0100
TZNAME:BST
DTSTART:20240331T010000
END:DAYLIGHT
BEGIN:STANDARD
TZOFFSETFROM:+0100
TZOFFSETTO:+0000
TZNAME:GMT
DTSTART:20241027T010000
END:STANDARD
BEGIN:DAYLIGHT
TZOFFSETFROM:+0000
TZOFFSETTO:+0100
TZNAME:BST
DTSTART:20250330T010000
END:DAYLIGHT
BEGIN:STANDARD
TZOFFSETFROM:+0100
TZOFFSETTO:+0000
TZNAME:GMT
DTSTART:20251026T010000
END:STANDARD
BEGIN:DAYLIGHT
TZOFFSETFROM:+0000
TZOFFSETTO:+0100
TZNAME:BST
DTSTART:20260329T010000
END:DAYLIGHT
BEGIN:STANDARD
TZOFFSETFROM:+0100
TZOFFSETTO:+0000
TZNAME:GMT
DTSTART:20261025T010000
END:STANDARD
END:VTIMEZONE
BEGIN:VEVENT
DTSTART;TZID=Europe/London:20250323T100000
DTEND;TZID=Europe/London:20250323T110000
DTSTAMP:20260419T171828
CREATED:20250114T162849Z
LAST-MODIFIED:20250404T171108Z
UID:6529-1742724000-1742727600@growingspace.london
SUMMARY:Stay & Garden - at Christ Church
DESCRIPTION:🌱 Join Us in The Growing Space at Christ Church Kensington🌞 \nLooking for a fun and rewarding way to give back? Or are you in search of a way to spend more time outside and boost your mental health? Come and volunteer an hour in the garden with us! 🌼 \n  \n👩‍👩‍👦‍👦 Bring the whole family – kids are more than welcome! It’s the perfect chance to enjoy some fresh air\, soak up that vitamin D\, and bond while giving back to the community. \n  \n🍅 Bonus perk? You might even head home with some freshly picked herbs or veggies. \n  \n💌 Are you a Duke of Edinburgh participants? This is a fantastic volunteering opportunity to tick off your list. Simply drop Pascale a message here to get started! \n  \n🌻 No green thumb? No worries! All you need is a smile and a willingness to get your hands a little dirty. \nSee you there? Let’s grow together! 🌟 \n\n\n\n  \nRegister Here \n\n\n\n\n\n  \n\n \nAll Events 
URL:https://growingspace.london/event/volunteer-garden-at-christ-church-11/
LOCATION:Christ Church Kensington\, Victoria Rd\, Kensington\, London\, W8 5RQ\, United Kingdom
CATEGORIES:Ages 12+,Workshops
ATTACH;FMTTYPE=image/jpeg:https://growingspace.london/wp-content/uploads/2025/01/BW-Stay-Garden-at-CCK-v4.jpg
ORGANIZER;CN="Growing Space":MAILTO:info@growingspace.london
END:VEVENT
BEGIN:VEVENT
DTSTART;TZID=Europe/London:20250322T140000
DTEND;TZID=Europe/London:20250322T150000
DTSTAMP:20260419T171828
CREATED:20250114T153453Z
LAST-MODIFIED:20250404T171108Z
UID:6516-1742652000-1742655600@growingspace.london
SUMMARY:Stay & Garden - at St Helen's
DESCRIPTION:🌱 Join Us in The Growing Space at St. Helen’s 🌞 \nLooking for a fun and rewarding way to give back? Or are you in search of a way to spend more time outside and boost your mental health? Come and volunteer an hour in the garden with us! 🌼 \n  \n👩‍👩‍👦‍👦 Bring the whole family – kids are more than welcome! It’s the perfect chance to enjoy some fresh air\, soak up that vitamin D\, and bond while giving back to the community. \n  \n🍅 Bonus perk? You might even head home with some freshly picked herbs or veggies. \n  \n💌 Are you a Duke of Edinburgh participants? This is a fantastic volunteering opportunity to tick off your list. Simply drop Pascale a message here to get started! \n  \n🌻 No green thumb? No worries! All you need is a smile and a willingness to get your hands a little dirty. \nSee you there? Let’s grow together! 🌟 \n\n\n\n  \nRegister to Volunteer \n\n\n\n\n\n  \n\n \nAll Events 
URL:https://growingspace.london/event/volunteer-garden-at-st-helens-12/
LOCATION:Growing Space at St.Helen’s North Kensington\, St. Helen's Church\, Kelfield Gardens\, London\, W10 6LP\, United Kingdom
CATEGORIES:Ages 12+,Workshops
ATTACH;FMTTYPE=image/jpeg:https://growingspace.london/wp-content/uploads/2025/01/BW-Stay-Garden-at-STH-v4.jpg
ORGANIZER;CN="Growing Space":MAILTO:info@growingspace.london
END:VEVENT
BEGIN:VEVENT
DTSTART;TZID=Europe/London:20250322T100000
DTEND;TZID=Europe/London:20250322T110000
DTSTAMP:20260419T171828
CREATED:20250114T124112Z
LAST-MODIFIED:20250404T171108Z
UID:6502-1742637600-1742641200@growingspace.london
SUMMARY:Stay & Garden - at St Sarkis
DESCRIPTION:🌱 Join Us in The Growing Space at St. Sarkis! 🌞 \nLooking for a fun\, friendly way to spend your day? Come and get stuck into some gardening with us! 🌼 \n  \n👩‍👩‍👦‍👦 Bring the whole family – kids are more than welcome! It’s the perfect chance to enjoy some fresh air\, soak up that vitamin D\, and bond while giving back to the community. \n  \n🍅 Bonus perk? You might even head home with some freshly picked herbs or veggies. \n  \n💌 Duke of Edinburgh participants – If you’re working on your award\, this is a fab opportunity to tick off that volunteering section. Just drop Pascale a message here to get started! \n  \n🌻 No green thumb? No worries! All you need is a smile and a willingness to get your hands a little dirty. \nSee you there? Let’s grow together! 🌟 \n  \nRegister to Volunteer \n\n\n\n\n\n  \n\n \nAll Events 
URL:https://growingspace.london/event/volunteer-garden-at-st-sarkis-12/
LOCATION:St Sarkis Kensington\, St Sarkis Armenian Church\, Iverna Gardens\, Kensington\, London\, W8 6TP\, United Kingdom
CATEGORIES:Ages 12+,Workshops
ATTACH;FMTTYPE=image/jpeg:https://growingspace.london/wp-content/uploads/2025/01/BW-Stay-Garden-at-STS-v3.jpg
ORGANIZER;CN="Growing Space":MAILTO:info@growingspace.london
END:VEVENT
BEGIN:VEVENT
DTSTART;TZID=Europe/London:20250316T100000
DTEND;TZID=Europe/London:20250316T110000
DTSTAMP:20260419T171828
CREATED:20250114T162657Z
LAST-MODIFIED:20250404T171108Z
UID:6528-1742119200-1742122800@growingspace.london
SUMMARY:Stay & Garden - at Christ Church
DESCRIPTION:🌱 Join Us in The Growing Space at Christ Church Kensington🌞 \nLooking for a fun and rewarding way to give back? Or are you in search of a way to spend more time outside and boost your mental health? Come and volunteer an hour in the garden with us! 🌼 \n  \n👩‍👩‍👦‍👦 Bring the whole family – kids are more than welcome! It’s the perfect chance to enjoy some fresh air\, soak up that vitamin D\, and bond while giving back to the community. \n  \n🍅 Bonus perk? You might even head home with some freshly picked herbs or veggies. \n  \n💌 Are you a Duke of Edinburgh participants? This is a fantastic volunteering opportunity to tick off your list. Simply drop Pascale a message here to get started! \n  \n🌻 No green thumb? No worries! All you need is a smile and a willingness to get your hands a little dirty. \nSee you there? Let’s grow together! 🌟 \n\n\n\n  \nRegister Here \n\n\n\n\n\n  \n\n \nAll Events 
URL:https://growingspace.london/event/volunteer-garden-at-christ-church-10/
LOCATION:Christ Church Kensington\, Victoria Rd\, Kensington\, London\, W8 5RQ\, United Kingdom
CATEGORIES:Ages 12+,Workshops
ATTACH;FMTTYPE=image/jpeg:https://growingspace.london/wp-content/uploads/2025/01/BW-Stay-Garden-at-CCK-v4.jpg
ORGANIZER;CN="Growing Space":MAILTO:info@growingspace.london
END:VEVENT
BEGIN:VEVENT
DTSTART;TZID=Europe/London:20250315T140000
DTEND;TZID=Europe/London:20250315T150000
DTSTAMP:20260419T171828
CREATED:20250114T153321Z
LAST-MODIFIED:20250404T171108Z
UID:6515-1742047200-1742050800@growingspace.london
SUMMARY:Stay & Garden - at St Helen's
DESCRIPTION:🌱 Join Us in The Growing Space at St. Helen’s 🌞 \nLooking for a fun and rewarding way to give back? Or are you in search of a way to spend more time outside and boost your mental health? Come and volunteer an hour in the garden with us! 🌼 \n  \n👩‍👩‍👦‍👦 Bring the whole family – kids are more than welcome! It’s the perfect chance to enjoy some fresh air\, soak up that vitamin D\, and bond while giving back to the community. \n  \n🍅 Bonus perk? You might even head home with some freshly picked herbs or veggies. \n  \n💌 Are you a Duke of Edinburgh participants? This is a fantastic volunteering opportunity to tick off your list. Simply drop Pascale a message here to get started! \n  \n🌻 No green thumb? No worries! All you need is a smile and a willingness to get your hands a little dirty. \nSee you there? Let’s grow together! 🌟 \n\n\n\n  \nRegister to Volunteer \n\n\n\n\n\n  \n\n \nAll Events 
URL:https://growingspace.london/event/volunteer-garden-at-st-helens-11/
LOCATION:Growing Space at St.Helen’s North Kensington\, St. Helen's Church\, Kelfield Gardens\, London\, W10 6LP\, United Kingdom
CATEGORIES:Ages 12+,Workshops
ATTACH;FMTTYPE=image/jpeg:https://growingspace.london/wp-content/uploads/2025/01/BW-Stay-Garden-at-STH-v4.jpg
ORGANIZER;CN="Growing Space":MAILTO:info@growingspace.london
END:VEVENT
BEGIN:VEVENT
DTSTART;TZID=Europe/London:20250315T100000
DTEND;TZID=Europe/London:20250315T110000
DTSTAMP:20260419T171828
CREATED:20250114T123839Z
LAST-MODIFIED:20250404T171108Z
UID:6501-1742032800-1742036400@growingspace.london
SUMMARY:Stay & Garden - at St Sarkis
DESCRIPTION:🌱 Join Us in The Growing Space at St. Sarkis! 🌞 \nLooking for a fun\, friendly way to spend your day? Come and get stuck into some gardening with us! 🌼 \n  \n👩‍👩‍👦‍👦 Bring the whole family – kids are more than welcome! It’s the perfect chance to enjoy some fresh air\, soak up that vitamin D\, and bond while giving back to the community. \n  \n🍅 Bonus perk? You might even head home with some freshly picked herbs or veggies. \n  \n💌 Duke of Edinburgh participants – If you’re working on your award\, this is a fab opportunity to tick off that volunteering section. Just drop Pascale a message here to get started! \n  \n🌻 No green thumb? No worries! All you need is a smile and a willingness to get your hands a little dirty. \nSee you there? Let’s grow together! 🌟 \n  \nRegister to Volunteer \n\n\n\n\n\n  \n\n \nAll Events 
URL:https://growingspace.london/event/volunteer-garden-at-st-sarkis-11/
LOCATION:St Sarkis Kensington\, St Sarkis Armenian Church\, Iverna Gardens\, Kensington\, London\, W8 6TP\, United Kingdom
CATEGORIES:Ages 12+,Workshops
ATTACH;FMTTYPE=image/jpeg:https://growingspace.london/wp-content/uploads/2025/01/BW-Stay-Garden-at-STS-v3.jpg
ORGANIZER;CN="Growing Space":MAILTO:info@growingspace.london
END:VEVENT
BEGIN:VEVENT
DTSTART;TZID=Europe/London:20250309T100000
DTEND;TZID=Europe/London:20250309T110000
DTSTAMP:20260419T171828
CREATED:20250114T162427Z
LAST-MODIFIED:20250404T171109Z
UID:6527-1741514400-1741518000@growingspace.london
SUMMARY:Stay & Garden - at Christ Church
DESCRIPTION:🌱 Join Us in The Growing Space at Christ Church Kensington🌞 \nLooking for a fun and rewarding way to give back? Or are you in search of a way to spend more time outside and boost your mental health? Come and volunteer an hour in the garden with us! 🌼 \n  \n👩‍👩‍👦‍👦 Bring the whole family – kids are more than welcome! It’s the perfect chance to enjoy some fresh air\, soak up that vitamin D\, and bond while giving back to the community. \n  \n🍅 Bonus perk? You might even head home with some freshly picked herbs or veggies. \n  \n💌 Are you a Duke of Edinburgh participants? This is a fantastic volunteering opportunity to tick off your list. Simply drop Pascale a message here to get started! \n  \n🌻 No green thumb? No worries! All you need is a smile and a willingness to get your hands a little dirty. \nSee you there? Let’s grow together! 🌟 \n\n\n\n  \nRegister Here \n\n\n\n\n\n  \n\n \nAll Events 
URL:https://growingspace.london/event/volunteer-garden-at-christ-church-9/
LOCATION:Christ Church Kensington\, Victoria Rd\, Kensington\, London\, W8 5RQ\, United Kingdom
CATEGORIES:Ages 12+,Workshops
ATTACH;FMTTYPE=image/jpeg:https://growingspace.london/wp-content/uploads/2025/01/BW-Stay-Garden-at-CCK-v4.jpg
ORGANIZER;CN="Growing Space":MAILTO:info@growingspace.london
END:VEVENT
BEGIN:VEVENT
DTSTART;TZID=Europe/London:20250308T140000
DTEND;TZID=Europe/London:20250308T150000
DTSTAMP:20260419T171828
CREATED:20250114T152952Z
LAST-MODIFIED:20250404T171109Z
UID:6514-1741442400-1741446000@growingspace.london
SUMMARY:Stay & Garden - at St Helen's
DESCRIPTION:🌱 Join Us in The Growing Space at St. Helen’s 🌞 \nLooking for a fun and rewarding way to give back? Or are you in search of a way to spend more time outside and boost your mental health? Come and volunteer an hour in the garden with us! 🌼 \n  \n👩‍👩‍👦‍👦 Bring the whole family – kids are more than welcome! It’s the perfect chance to enjoy some fresh air\, soak up that vitamin D\, and bond while giving back to the community. \n  \n🍅 Bonus perk? You might even head home with some freshly picked herbs or veggies. \n  \n💌 Are you a Duke of Edinburgh participants? This is a fantastic volunteering opportunity to tick off your list. Simply drop Pascale a message here to get started! \n  \n🌻 No green thumb? No worries! All you need is a smile and a willingness to get your hands a little dirty. \nSee you there? Let’s grow together! 🌟 \n\n\n\n  \nRegister to Volunteer \n\n\n\n\n\n  \n\n \nAll Events 
URL:https://growingspace.london/event/volunteer-garden-at-st-helens-10/
LOCATION:Growing Space at St.Helen’s North Kensington\, St. Helen's Church\, Kelfield Gardens\, London\, W10 6LP\, United Kingdom
CATEGORIES:Ages 12+,Workshops
ATTACH;FMTTYPE=image/jpeg:https://growingspace.london/wp-content/uploads/2025/01/BW-Stay-Garden-at-STH-v4.jpg
ORGANIZER;CN="Growing Space":MAILTO:info@growingspace.london
END:VEVENT
BEGIN:VEVENT
DTSTART;TZID=Europe/London:20250308T100000
DTEND;TZID=Europe/London:20250308T110000
DTSTAMP:20260419T171828
CREATED:20250114T123614Z
LAST-MODIFIED:20250404T171109Z
UID:6500-1741428000-1741431600@growingspace.london
SUMMARY:Stay & Garden - at St Sarkis
DESCRIPTION:🌱 Join Us in The Growing Space at St. Sarkis! 🌞 \nLooking for a fun\, friendly way to spend your day? Come and get stuck into some gardening with us! 🌼 \n  \n👩‍👩‍👦‍👦 Bring the whole family – kids are more than welcome! It’s the perfect chance to enjoy some fresh air\, soak up that vitamin D\, and bond while giving back to the community. \n  \n🍅 Bonus perk? You might even head home with some freshly picked herbs or veggies. \n  \n💌 Duke of Edinburgh participants – If you’re working on your award\, this is a fab opportunity to tick off that volunteering section. Just drop Pascale a message here to get started! \n  \n🌻 No green thumb? No worries! All you need is a smile and a willingness to get your hands a little dirty. \nSee you there? Let’s grow together! 🌟 \n  \nRegister to Volunteer \n\n\n\n\n\n  \n\n \nAll Events 
URL:https://growingspace.london/event/volunteer-garden-at-st-sarkis-10/
LOCATION:St Sarkis Kensington\, St Sarkis Armenian Church\, Iverna Gardens\, Kensington\, London\, W8 6TP\, United Kingdom
CATEGORIES:Ages 12+,Workshops
ATTACH;FMTTYPE=image/jpeg:https://growingspace.london/wp-content/uploads/2025/01/BW-Stay-Garden-at-STS-v3.jpg
ORGANIZER;CN="Growing Space":MAILTO:info@growingspace.london
END:VEVENT
BEGIN:VEVENT
DTSTART;TZID=Europe/London:20250302T100000
DTEND;TZID=Europe/London:20250302T110000
DTSTAMP:20260419T171828
CREATED:20250114T162303Z
LAST-MODIFIED:20250404T171109Z
UID:6526-1740909600-1740913200@growingspace.london
SUMMARY:Stay & Garden - at Christ Church
DESCRIPTION:🌱 Join Us in The Growing Space at Christ Church Kensington🌞 \nLooking for a fun and rewarding way to give back? Or are you in search of a way to spend more time outside and boost your mental health? Come and volunteer an hour in the garden with us! 🌼 \n  \n👩‍👩‍👦‍👦 Bring the whole family – kids are more than welcome! It’s the perfect chance to enjoy some fresh air\, soak up that vitamin D\, and bond while giving back to the community. \n  \n🍅 Bonus perk? You might even head home with some freshly picked herbs or veggies. \n  \n💌 Are you a Duke of Edinburgh participants? This is a fantastic volunteering opportunity to tick off your list. Simply drop Pascale a message here to get started! \n  \n🌻 No green thumb? No worries! All you need is a smile and a willingness to get your hands a little dirty. \nSee you there? Let’s grow together! 🌟 \n\n\n\n  \nRegister Here \n\n\n\n\n\n  \n\n \nAll Events 
URL:https://growingspace.london/event/volunteer-garden-at-christ-church-8/
LOCATION:Christ Church Kensington\, Victoria Rd\, Kensington\, London\, W8 5RQ\, United Kingdom
CATEGORIES:Ages 12+,Workshops
ATTACH;FMTTYPE=image/jpeg:https://growingspace.london/wp-content/uploads/2025/01/BW-Stay-Garden-at-CCK-v4.jpg
ORGANIZER;CN="Growing Space":MAILTO:info@growingspace.london
END:VEVENT
BEGIN:VEVENT
DTSTART;TZID=Europe/London:20250301T090000
DTEND;TZID=Europe/London:20250301T110000
DTSTAMP:20260419T171828
CREATED:20250114T152815Z
LAST-MODIFIED:20250404T171109Z
UID:6512-1740819600-1740826800@growingspace.london
SUMMARY:Stay & Garden - at St Helen's
DESCRIPTION:Please Note the Time Change for This Date: 9am to 11am \n  \n🌱 Join Us in The Growing Space at St. Helen’s 🌞 \nLooking for a fun and rewarding way to give back? Or are you in search of a way to spend more time outside and boost your mental health? Come and volunteer an hour in the garden with us! 🌼 \n  \n👩‍👩‍👦‍👦 Bring the whole family – kids are more than welcome! It’s the perfect chance to enjoy some fresh air\, soak up that vitamin D\, and bond while giving back to the community. \n  \n🍅 Bonus perk? You might even head home with some freshly picked herbs or veggies. \n  \n💌 Are you a Duke of Edinburgh participants? This is a fantastic volunteering opportunity to tick off your list. Simply drop Pascale a message here to get started! \n  \n🌻 No green thumb? No worries! All you need is a smile and a willingness to get your hands a little dirty. \nSee you there? Let’s grow together! 🌟 \n\n\n\n  \nRegister to Volunteer \n\n\n\n\n\n  \n\n \nAll Events 
URL:https://growingspace.london/event/volunteer-garden-at-st-helens-9/
LOCATION:Growing Space at St.Helen’s North Kensington\, St. Helen's Church\, Kelfield Gardens\, London\, W10 6LP\, United Kingdom
CATEGORIES:Ages 12+,Workshops
ATTACH;FMTTYPE=image/jpeg:https://growingspace.london/wp-content/uploads/2024/09/BW-Stay-Garden-generic.jpg
ORGANIZER;CN="Growing Space":MAILTO:info@growingspace.london
END:VEVENT
END:VCALENDAR